BEGIN:VCALENDAR
PRODID:NingEventWidget-v1
VERSION:2.0
METHOD:PUBLISH
BEGIN:VTIMEZONE
TZID:Europe/London
X-LIC-LOCATION:Europe/London
BEGIN:DAYLIGHT
TZOFFSETFROM:+0000
TZOFFSETTO:+0100
TZNAME:BST
DTSTART:19700329T010000
RRULE:FREQ=YEARLY;BYMONTH=3;BYDAY=-1SU
END:DAYLIGHT
BEGIN:STANDARD
TZOFFSETFROM:+0100
TZOFFSETTO:+0000
TZNAME:GMT
DTSTART:19701025T020000
RRULE:FREQ=YEARLY;BYMONTH=10;BYDAY=-1SU
END:STANDARD
END:VTIMEZONE
BEGIN:VEVENT
UID:6278630:Event:125521
DTSTAMP:20260424T190433Z
SUMMARY:Xantone Blacq - The Day of Dreams
DESCRIPTION:Xantone Blacq – The Days of Dreams Launching Love Wood G
 reen, Xantone Blacq will perform music from his forthcoming third albu
 m ‘The Days of Dreams’ releasing later this year, alongside classi
 c songs he has become well-known for. Having collaborated with, given 
 voice to, played keyboard and percussion for some amazing artists in t
 he music industry from Amy Winehouse, Laura Mvula, Nigel Kennedy, Mark
  Ronson to Jessie J and Candi Staton,\nXantone is a modern day musical
  Cyborg fusing the soulfulness and vocal style of Stevie Wonder, with 
 Herbie Hancock’s funky keyboard playing and Quincy Jones’ mind for
  musical arrangement. Wood Green is truly blessed to have Xantone Blac
 q and his band launch our festival in his own inimitable way.\nTickets
  £8 earlybird online / £10 OTD / Booking advised\nKaramel, 4 Coburg 
 Road, London N22 6UJ / 020 8829 8989 www.karamel.london\n\nFor more in
 formation visit https://bowesandbounds.org/events/xantone-blacq-the-da
 y-of-dreams
DTSTART;TZID=Europe/London:20170920T190000
DTEND;TZID=Europe/London:20170920T230000
CATEGORIES:"'music'", "'world", "music'", music, at, "karamel'", "'kar
 amel'", "'karamel", "'music"
LOCATION:Karamel
WEBSITE:http://www.karamel.london
URL:http://www.karamel.london
CONTACT:0208 829 8989
ORGANIZER:Karamel
ATTACH;FMTTYPE="image/jpeg":http://storage.ning.com/topology/rest/1.0/
 file/get/2287319761?profile=original
ATTENDEE;ROLE=REQ-PARTICIPANT;PARTSTAT=ACCEPTED;RSVP=TRUE;CN="Events a
 t Karamel":https://bowesandbounds.org/profile/PhilSherman
END:VEVENT
END:VCALENDAR
