BEGIN:VCALENDAR
PRODID:NingEventWidget-v1
VERSION:2.0
METHOD:PUBLISH
BEGIN:VTIMEZONE
TZID:Europe/London
X-LIC-LOCATION:Europe/London
BEGIN:DAYLIGHT
TZOFFSETFROM:+0000
TZOFFSETTO:+0100
TZNAME:BST
DTSTART:19700329T010000
RRULE:FREQ=YEARLY;BYMONTH=3;BYDAY=-1SU
END:DAYLIGHT
BEGIN:STANDARD
TZOFFSETFROM:+0100
TZOFFSETTO:+0000
TZNAME:GMT
DTSTART:19701025T020000
RRULE:FREQ=YEARLY;BYMONTH=10;BYDAY=-1SU
END:STANDARD
END:VTIMEZONE
BEGIN:VEVENT
UID:6278630:Event:204635
DTSTAMP:20260422T165613Z
SUMMARY:Poetry Course: Finding the Poem (Set 1) with Paul Lyalls
DESCRIPTION:Monday evenings, 6.45pm to 9.15pm; Feb 22, March 1, 8, 15
 , 22, 29. Virtual Writing Room via ZOOM video conference & correspond
 ence.\nComplete beginners to poetry sought! Relative newcomers very we
 lcome! Seasoned poets – come along too!\nThis is a course for anyone
  who wants to liberate their creativity and immerse themselves in the 
 joy of language. Playful, fun, entertaining, enlightening – explore 
 your word power with Paul Lyalls.\nEnjoy this set of 6 workshops, one 
 of 3 separate sets which can be taken in any order.\nA note to prose w
 riters: have you ever wondered what it is like to write in the poetic 
 form? Perhaps you write in prose automatically but would like to try t
 o use language in another way. If your fiction needs a lift, if your l
 ife-writing needs lilt, if your central characters don’t quite sing 
 (or even if they do!) you can free your writing through poetry.\nCost 
 £125 (email kate@collage-arts.org to register and receive payment lin
 k)\nWe help to develop and support the writer, as much as the writing,
  with extra check-in sessions like our process/progress group, and our
  Feedback Fridays, sharing salons and reading groups. Our latest cours
 e programme is here. Our clubs and groups are here.\n\nFor more info
 rmation visit https://bowesandbounds.org/events/yc1y
DTSTART;TZID=Europe/London:20210222T184500
DTEND;TZID=Europe/London:20210222T211500
CATEGORIES:"poetry workshop", "creative writing", "online writing work
 shop"
LOCATION:Online from Collage Writing Room
WEBSITE:http://collagewritingroom.com/spring-courses/
URL:http://collagewritingroom.com/spring-courses/
CONTACT:
ORGANIZER:Carmel Shortall for Collage Writing Room
ATTACH;FMTTYPE="image/jpeg":https://storage.ning.com/topology/rest/1.0
 /file/get/8360673076?profile=original
ATTENDEE;ROLE=REQ-PARTICIPANT;PARTSTAT=ACCEPTED;RSVP=TRUE;CN="Carmel S
 hortall":https://bowesandbounds.org/profile/CarmelShortall
END:VEVENT
END:VCALENDAR
