BEGIN:VCALENDAR
PRODID:NingEventWidget-v1
VERSION:2.0
METHOD:PUBLISH
BEGIN:VTIMEZONE
TZID:Europe/London
X-LIC-LOCATION:Europe/London
BEGIN:DAYLIGHT
TZOFFSETFROM:+0000
TZOFFSETTO:+0100
TZNAME:BST
DTSTART:19700329T010000
RRULE:FREQ=YEARLY;BYMONTH=3;BYDAY=-1SU
END:DAYLIGHT
BEGIN:STANDARD
TZOFFSETFROM:+0100
TZOFFSETTO:+0000
TZNAME:GMT
DTSTART:19701025T020000
RRULE:FREQ=YEARLY;BYMONTH=10;BYDAY=-1SU
END:STANDARD
END:VTIMEZONE
BEGIN:VEVENT
UID:6278630:Event:63411
DTSTAMP:20260425T133842Z
SUMMARY:Yoga classes from September at Community Centre, Wood Green, T
 hursdays 8pm - 930pm
DESCRIPTION:New Yoga classes starting in Bowes Park,Wood Green from Se
 ptember every Thursday 8pm - 930pm at Cypriot Community  Centre, Earl
 ham Grove, N22 5HJ. Only £6 starting price for 90 minutes. Mats provi
 ded.\nBeginners through to people further into their yoga journey welc
 ome, to include hatha style yoga & deep meditation / kundalini based w
 ith the aim of de-stressing and healing both the body and mind.  \n\n
 Please contact Tasha for further details at tranquillityinthecity@gmai
 l.com or call 02088814763 / 07757674350.\n\nFor more information visit
  https://bowesandbounds.org/events/yoga-classes-from-september-at-comm
 unity-centre-wood-green
DTSTART;TZID=Europe/London:20130912T200000
DTEND;TZID=Europe/London:20130912T213000
CATEGORIES:yoga, class
LOCATION:Community Centre, , N22 5HJ
WEBSITE:https://www.facebook.com/pages/Yoga-Meditation-London/35609676
 4461331
URL:https://www.facebook.com/pages/Yoga-Meditation-London/356096764461
 331
CONTACT:07757674350
ORGANIZER;CN="Tasha Walker":https://bowesandbounds.org/profile/TashaWa
 lker
ATTACH;FMTTYPE="image/jpeg":
ATTENDEE;ROLE=REQ-PARTICIPANT;PARTSTAT=ACCEPTED;RSVP=TRUE;CN="Tasha Wa
 lker":https://bowesandbounds.org/profile/TashaWalker
END:VEVENT
END:VCALENDAR
