BEGIN:VCALENDAR
PRODID:NingEventWidget-v1
VERSION:2.0
METHOD:PUBLISH
BEGIN:VTIMEZONE
TZID:Europe/London
X-LIC-LOCATION:Europe/London
BEGIN:DAYLIGHT
TZOFFSETFROM:+0000
TZOFFSETTO:+0100
TZNAME:BST
DTSTART:19700329T010000
RRULE:FREQ=YEARLY;BYMONTH=3;BYDAY=-1SU
END:DAYLIGHT
BEGIN:STANDARD
TZOFFSETFROM:+0100
TZOFFSETTO:+0000
TZNAME:GMT
DTSTART:19701025T020000
RRULE:FREQ=YEARLY;BYMONTH=10;BYDAY=-1SU
END:STANDARD
END:VTIMEZONE
BEGIN:VEVENT
UID:6278630:Event:58584
DTSTAMP:20260420T193719Z
SUMMARY:Yoga Classes
DESCRIPTION:Yoga classes on Wednesday evenings at the Bounds Green Bow
 ls and Tennis Club, Goring Road\n7.00-8.30pm\nwith Irena Nicoll\nQuali
 fied and experienced British Wheel of Yoga teacher\nFor more informati
 on Email inicoll@hotmail.com\n\nFor more information visit https://bow
 esandbounds.org/events/yoga-classes
DTSTART;TZID=Europe/London:20130501T190000
DTEND;TZID=Europe/London:20130501T203000
CATEGORIES:yoga, class
LOCATION:Bounds Green Bowls and Tennis Club
WEBSITE:http://www.bgbtc.co.uk/
URL:http://www.bgbtc.co.uk/
CONTACT:07762 780759
ORGANIZER:
ATTACH;FMTTYPE="image/jpeg":
ATTENDEE;ROLE=REQ-PARTICIPANT;PARTSTAT=ACCEPTED;RSVP=TRUE;CN=Joanna:ht
 tps://bowesandbounds.org/profile/Joanna
ATTENDEE;ROLE=REQ-PARTICIPANT;PARTSTAT=ACCEPTED;RSVP=TRUE;CN=Pat:https
 ://bowesandbounds.org/profile/Pat
ATTENDEE;ROLE=REQ-PARTICIPANT;PARTSTAT=ACCEPTED;RSVP=TRUE;CN="Irena Ni
 coll":https://bowesandbounds.org/profile/IrenaNicoll
ATTENDEE;ROLE=REQ-PARTICIPANT;PARTSTAT=TENTATIVE;RSVP=TRUE;CN="Debbie 
 Coates":https://bowesandbounds.org/profile/DebbieCoates
END:VEVENT
END:VCALENDAR
