BEGIN:VCALENDAR
PRODID:NingEventWidget-v1
VERSION:2.0
METHOD:PUBLISH
BEGIN:VTIMEZONE
TZID:Europe/London
X-LIC-LOCATION:Europe/London
BEGIN:DAYLIGHT
TZOFFSETFROM:+0000
TZOFFSETTO:+0100
TZNAME:BST
DTSTART:19700329T010000
RRULE:FREQ=YEARLY;BYMONTH=3;BYDAY=-1SU
END:DAYLIGHT
BEGIN:STANDARD
TZOFFSETFROM:+0100
TZOFFSETTO:+0000
TZNAME:GMT
DTSTART:19701025T020000
RRULE:FREQ=YEARLY;BYMONTH=10;BYDAY=-1SU
END:STANDARD
END:VTIMEZONE
BEGIN:VEVENT
UID:6278630:Event:129720
DTSTAMP:20260425T143044Z
SUMMARY:Yoga to support the menopause - With Sue
DESCRIPTION:Through my own experiences, those of friends and colleague
 s I have become aware of the general lack of support available for wom
 en at the menopause. After ten years of practice, yoga has become even
  more important to me whilst going through the menopause with disrupte
 d sleep, anxiety and hot flushes.Please join me for an hour of gentle 
 yoga, breathing and relaxation to help you find a sense of calm as you
  navigate your way through this challenging life transition.\n\nFor mo
 re information visit https://bowesandbounds.org/events/yoga-to-support
 -the-menopause-with-sue
DTSTART;TZID=Europe/London:20180113T100000
DTEND;TZID=Europe/London:20180113T110000
CATEGORIES:new, yoga, class, to, support, the, menopause
LOCATION:Vibe Studio
WEBSITE:https://goo.gl/maps/uJiV4tcSwW62
URL:https://goo.gl/maps/uJiV4tcSwW62
CONTACT:07973612577
ORGANIZER;CN="Sue Davies":https://bowesandbounds.org/profile/SueDavies
 594
ATTACH;FMTTYPE="image/jpeg":
ATTENDEE;ROLE=REQ-PARTICIPANT;PARTSTAT=ACCEPTED;RSVP=TRUE;CN="Sue Davi
 es":https://bowesandbounds.org/profile/SueDavies594
END:VEVENT
END:VCALENDAR
