BEGIN:VCALENDAR
PRODID:NingEventWidget-v1
VERSION:2.0
METHOD:PUBLISH
BEGIN:VTIMEZONE
TZID:Europe/London
X-LIC-LOCATION:Europe/London
BEGIN:DAYLIGHT
TZOFFSETFROM:+0000
TZOFFSETTO:+0100
TZNAME:BST
DTSTART:19700329T010000
RRULE:FREQ=YEARLY;BYMONTH=3;BYDAY=-1SU
END:DAYLIGHT
BEGIN:STANDARD
TZOFFSETFROM:+0100
TZOFFSETTO:+0000
TZNAME:GMT
DTSTART:19701025T020000
RRULE:FREQ=YEARLY;BYMONTH=10;BYDAY=-1SU
END:STANDARD
END:VTIMEZONE
BEGIN:VEVENT
UID:6278630:Event:249483
DTSTAMP:20260421T071038Z
SUMMARY:Collage Kids: Little Red Riding Hood and Friends
DESCRIPTION:Booster Cushion Theatre Presents....\nLittle Red Riding Ho
 od and Friends\nLittle Red Riding Hood’s friend arrives to tell us t
 he story but has a problem, there are no pages in the book! He tries t
 o tell the story and we meet Red Riding Hood’s mum, dad and grandma 
 but he keeps getting the story wrong. Can you help?\nIdeal for 3 years
  plus....\nhttps://www.boostercushiontheatreforchildren.com/littleredr
 idinghoodandfriends/\nKaramel Kids is a monthly fun packed performance
  event for early years children (suggested age range up to 6 years) an
 d their families.\nThe £5 family ticket is for up to 4 people - eg: 2
  adults + 2 children; or 1 adult + 3 children.\nFamily friendly, all w
 elcome. Please book in advance.\nKaramel, 4 Coburg Road, Wood Green, L
 ondon N22 6UJ. The Karamel kitchen is open from 1pm and all afternoon 
 serving delicious vegan world foods, tea/coffee/refreshments.\n\nFor m
 ore information visit https://bowesandbounds.org/events/yoggy-amp-yumm
 y
DTSTART;TZID=Europe/London:20250301T140000
DTEND;TZID=Europe/London:20250301T150000
CATEGORIES:kidsshow, veganvenue, veganfood
LOCATION:Karamel, 4 Coburg Road, Wood Green, London N22 6UJ
WEBSITE:https://www.musicglue.com/karamel/events/2025-03-01-collage-ki
 ds-little-red-riding-hood-and-friends-karamel
URL:https://www.musicglue.com/karamel/events/2025-03-01-collage-kids-l
 ittle-red-riding-hood-and-friends-karamel
CONTACT:
ORGANIZER;CN="Collage Artspaces":https://bowesandbounds.org/profile/Co
 llage_Arts
ATTACH;FMTTYPE="image/jpeg":https://storage.ning.com/topology/rest/1.0
 /file/get/13466147662?profile=original
ATTENDEE;ROLE=REQ-PARTICIPANT;PARTSTAT=ACCEPTED;RSVP=TRUE;CN="Collage 
 Artspaces":https://bowesandbounds.org/profile/Collage_Arts
END:VEVENT
END:VCALENDAR
