BEGIN:VCALENDAR
PRODID:NingEventWidget-v1
VERSION:2.0
METHOD:PUBLISH
BEGIN:VTIMEZONE
TZID:Europe/London
X-LIC-LOCATION:Europe/London
BEGIN:DAYLIGHT
TZOFFSETFROM:+0000
TZOFFSETTO:+0100
TZNAME:BST
DTSTART:19700329T010000
RRULE:FREQ=YEARLY;BYMONTH=3;BYDAY=-1SU
END:DAYLIGHT
BEGIN:STANDARD
TZOFFSETFROM:+0100
TZOFFSETTO:+0000
TZNAME:GMT
DTSTART:19701025T020000
RRULE:FREQ=YEARLY;BYMONTH=10;BYDAY=-1SU
END:STANDARD
END:VTIMEZONE
BEGIN:VEVENT
UID:6278630:Event:59302
DTSTAMP:20260424T234238Z
SUMMARY:Youth cricket training at Alexandra Park CC
DESCRIPTION:New youngsters from 5 to 15 are welcome to our cricket tra
 ining sessions on Sunday mornings held in the wonderful surrounds of A
 lexandra Park within the old Racecourse. All levels welcome.\n \nSess
 ions run from 10 till 12 and cost is £5 with first session free.\n\nF
 or more information visit https://bowesandbounds.org/events/youth-cric
 ket-training-at-alexandra-park-cc
DTSTART;TZID=Europe/London:20130512T100000
DTEND;TZID=Europe/London:20130512T120000
CATEGORIES:cricket, colts, youth, activities
LOCATION:Alexandra Park
WEBSITE:http://alexandraparkcricketclub.com/
URL:http://alexandraparkcricketclub.com/
CONTACT:
ORGANIZER;CN="Alistair Wilson":https://bowesandbounds.org/profile/Alis
 tairWilson
ATTACH;FMTTYPE="image/jpeg":http://storage.ning.com/topology/rest/1.0/
 file/get/2287248400?profile=original
ATTENDEE;ROLE=REQ-PARTICIPANT;PARTSTAT=ACCEPTED;RSVP=TRUE;CN="Alistair
  Wilson":https://bowesandbounds.org/profile/AlistairWilson
END:VEVENT
END:VCALENDAR
