BEGIN:VCALENDAR
PRODID:NingEventWidget-v1
VERSION:2.0
METHOD:PUBLISH
BEGIN:VTIMEZONE
TZID:Europe/London
X-LIC-LOCATION:Europe/London
BEGIN:DAYLIGHT
TZOFFSETFROM:+0000
TZOFFSETTO:+0100
TZNAME:BST
DTSTART:19700329T010000
RRULE:FREQ=YEARLY;BYMONTH=3;BYDAY=-1SU
END:DAYLIGHT
BEGIN:STANDARD
TZOFFSETFROM:+0100
TZOFFSETTO:+0000
TZNAME:GMT
DTSTART:19701025T020000
RRULE:FREQ=YEARLY;BYMONTH=10;BYDAY=-1SU
END:STANDARD
END:VTIMEZONE
BEGIN:VEVENT
UID:6278630:Event:136351
DTSTAMP:20260422T114105Z
SUMMARY:Zero Market N22 - Launch 1st June
DESCRIPTION:We're launching this SATURDAY June 1st, 11am-3:30pm at Hea
 rtlands High School, N22 7ST!\n\n \n\nWe have delicious street foods 
 including vegan, organic fruit and veg, organic bread and pastries, ch
 eese, honey, olives, nuts, cake, Portuguese custard tarts and other pa
 stries, gluten free snacks, cooking sauces, locally brewed beer, plast
 ic free toiletries, laundry and cleaning product refills, botanical sk
 incare, repurposed household wares and so much more!\n\n \n\nOur mark
 et is a zero waste zone so, please bring you bags and containers! It's
  also a smoke free zone but pets are welcome :)\n\n \n\nEntrance is t
 hrough the small roundabout on Station Road N22, opposite Park Avenue.
  We have a small car park but highly encourage you to use public trans
 port, cycle or walk. We're right next to Alexandra Palace's train stat
 ion and only a 5m walk away from Wood Green tube station. We also have
  buses W3 and 184 right outside.\n\n \n\nSee you there!\n\n\nFor more
  information visit https://bowesandbounds.org/events/zero-market-n22-l
 aunch-1st-june
DTSTART;TZID=Europe/London:20190601T110000
DTEND;TZID=Europe/London:20190601T153000
CATEGORIES:zero, waste, market
LOCATION:Heartlands Secondary School, Wood Green
WEBSITE:https://zeromarketn22.co.uk/
URL:https://zeromarketn22.co.uk/
CONTACT:
ORGANIZER;CN="Ana Remigio":https://bowesandbounds.org/profile/AnaRemig
 io
ATTACH;FMTTYPE="image/jpeg":https://storage.ning.com/topology/rest/1.0
 /file/get/2170526374?profile=original
ATTENDEE;ROLE=REQ-PARTICIPANT;PARTSTAT=ACCEPTED;RSVP=TRUE;CN="Suzanne 
 Lennon":https://bowesandbounds.org/profile/SuzanneLennon
ATTENDEE;ROLE=REQ-PARTICIPANT;PARTSTAT=ACCEPTED;RSVP=TRUE;CN="Ana Remi
 gio":https://bowesandbounds.org/profile/AnaRemigio
END:VEVENT
END:VCALENDAR
