BEGIN:VCALENDAR
PRODID:NingEventWidget-v1
VERSION:2.0
METHOD:PUBLISH
BEGIN:VTIMEZONE
TZID:Europe/London
X-LIC-LOCATION:Europe/London
BEGIN:DAYLIGHT
TZOFFSETFROM:+0000
TZOFFSETTO:+0100
TZNAME:BST
DTSTART:19700329T010000
RRULE:FREQ=YEARLY;BYMONTH=3;BYDAY=-1SU
END:DAYLIGHT
BEGIN:STANDARD
TZOFFSETFROM:+0100
TZOFFSETTO:+0000
TZNAME:GMT
DTSTART:19701025T020000
RRULE:FREQ=YEARLY;BYMONTH=10;BYDAY=-1SU
END:STANDARD
END:VTIMEZONE
BEGIN:VEVENT
UID:6278630:Event:148400
DTSTAMP:20260419T131559Z
SUMMARY:Zero Market N22 - October 4th
DESCRIPTION:Don't forget to visit us on Sunday, October 4th at the Myd
 dleton Road Market, 11am-4pm.\nOur section will have 6 stalls this mon
 th: Zero Carbon Kids, Edible London, WeFil, Vida Natural, Luso Roots a
 nd the wonderful wild animal charity, WWF.\nPlease note that all refil
 ls (both food and non-food) will now be provided by the wonderful ladi
 es at WeFil!\nTogether we will have:\n- household cleaning refills;- d
 ry food refills;- many zero waste products, including gifts and greeti
 ng cards;- fruit & veg from Edible London;- pre loved children's cloth
 es;- Portuguese pastries.\nAlso, plenty of yummy stalls from the Myddl
 eton Road Market!!\nThe market will run following government guideline
 s. Please, do your best to keep yourself and others safe too. Don't fo
 rget your empty containers and reusable carrier bags!\nWe're looking f
 orward to being back and seeing everyone again!\n\nFor more informatio
 n visit https://bowesandbounds.org/events/zero-market-n22-october-4th
DTSTART;TZID=Europe/London:20201004T110000
DTEND;TZID=Europe/London:20201004T160000
CATEGORIES:zero, waste, market
LOCATION:Myddleton Road Market
WEBSITE:https://zeromarketn22.co.uk/
URL:https://zeromarketn22.co.uk/
CONTACT:
ORGANIZER;CN="Ana Remigio":https://bowesandbounds.org/profile/AnaRemig
 io
ATTACH;FMTTYPE="image/jpeg":https://storage.ning.com/topology/rest/1.0
 /file/get/7981549658?profile=original
ATTENDEE;ROLE=REQ-PARTICIPANT;PARTSTAT=ACCEPTED;RSVP=TRUE;CN="Ana Remi
 gio":https://bowesandbounds.org/profile/AnaRemigio
END:VEVENT
END:VCALENDAR
