BEGIN:VCALENDAR
PRODID:NingEventWidget-v1
VERSION:2.0
METHOD:PUBLISH
BEGIN:VTIMEZONE
TZID:Europe/London
X-LIC-LOCATION:Europe/London
BEGIN:DAYLIGHT
TZOFFSETFROM:+0000
TZOFFSETTO:+0100
TZNAME:BST
DTSTART:19700329T010000
RRULE:FREQ=YEARLY;BYMONTH=3;BYDAY=-1SU
END:DAYLIGHT
BEGIN:STANDARD
TZOFFSETFROM:+0100
TZOFFSETTO:+0000
TZNAME:GMT
DTSTART:19701025T020000
RRULE:FREQ=YEARLY;BYMONTH=10;BYDAY=-1SU
END:STANDARD
END:VTIMEZONE
BEGIN:VEVENT
UID:6278630:Event:122843
DTSTAMP:20260424T212252Z
SUMMARY:ZerOclassikal Basement Sessions Double Bill: An Evening of Jug
 albandhis
DESCRIPTION:A collaboration between the North and South as Mithila Sar
 ma and Raaheel Husain come together for a Veena and Sitar jugalbandhi.
 \n\nAn inspired classical performance drawing in on culture and identi
 ty, leading to an evening of dynamic interaction Miruthangam by Senthu
 ran Premakumar and Janakan Srirangan Tabla by Jeevan Singh Riyait and 
 Janan Sathiendran .Four sought-after British percussionists come toget
 her to create an enigmatic recital of South Asian classical percussion
 .\n\nFour sought-after British percussionists come together to create 
 an enigmatic recital of South Asian classical percussion.\n\nEngage in
  the sounds of Tabla and Miruthangam as the complex rhythmic structure
 s are woven together for an exciting and upbeat performance.\n\nEarlyb
 ird tickets from www.karamel.london £6/ £8 OTD\nDoors open 7pm, Musi
 c starts 8pm\n\nFor more information visit https://bowesandbounds.org/
 events/zeroclassikal-basement-sessions-double-bill-an-evening-of
DTSTART;TZID=Europe/London:20170531T190000
DTEND;TZID=Europe/London:20170531T230000
CATEGORIES:"'music'", "'world", "music'", music, at, "karamel'", "'kar
 amel'", "'karamel", "'music"
LOCATION:Karamel
WEBSITE:http://www.karamel.london
URL:http://www.karamel.london
CONTACT:0208 829 8989
ORGANIZER;CN="Events at Karamel":https://bowesandbounds.org/profile/Ph
 ilSherman
ATTACH;FMTTYPE="image/jpeg":http://storage.ning.com/topology/rest/1.0/
 file/get/2287318905?profile=original
ATTENDEE;ROLE=REQ-PARTICIPANT;PARTSTAT=ACCEPTED;RSVP=TRUE;CN="Events a
 t Karamel":https://bowesandbounds.org/profile/PhilSherman
END:VEVENT
END:VCALENDAR
