BEGIN:VCALENDAR
PRODID:NingEventWidget-v1
VERSION:2.0
METHOD:PUBLISH
BEGIN:VTIMEZONE
TZID:Europe/London
X-LIC-LOCATION:Europe/London
BEGIN:DAYLIGHT
TZOFFSETFROM:+0000
TZOFFSETTO:+0100
TZNAME:BST
DTSTART:19700329T010000
RRULE:FREQ=YEARLY;BYMONTH=3;BYDAY=-1SU
END:DAYLIGHT
BEGIN:STANDARD
TZOFFSETFROM:+0100
TZOFFSETTO:+0000
TZNAME:GMT
DTSTART:19701025T020000
RRULE:FREQ=YEARLY;BYMONTH=10;BYDAY=-1SU
END:STANDARD
END:VTIMEZONE
BEGIN:VEVENT
UID:6278630:Event:126306
DTSTAMP:20260424T160743Z
SUMMARY:zerOclassikal Basement Sessions: Prabhat Rao and Pradeepa Siva
 santhiran
DESCRIPTION:Prabhat Rao\nPrabhat Rao is a leading Hindustani Classical
  Vocalist of the younger generation. Based in London, he has had rigor
 ous training under Guru Chandrima Misra of the Bharatiya Vidya Bhavan,
  UK. He has toured as a solo vocalist in the UK, Europe and Asia and i
 s now also a part of UK's national youth ensemble, Tarang. His perfor
 mance features delving deeper into the emotions of Khyal and demystifi
 ng this ancient art form.\nPradeepa Sivasanthiran\nPradeepa is a talen
 ted Carnatic Veena player whose strong classical training has imbibed 
 in her a deep respect for South Asian arts and the culture from which 
 it springs. Having performed in various venues and festivals throughou
 t the UK, she values foremost the universality of the ancient instrume
 nt to entrance listeners with its musical storytelling.\nTickets £6 e
 arlybird at www.karamel.london\n\nFor more information visit https://b
 owesandbounds.org/events/zeroclassikal-basement-sessions-prabhat-rao-a
 nd-pradeepa
DTSTART;TZID=Europe/London:20171129T190000
DTEND;TZID=Europe/London:20171129T230000
CATEGORIES:"'zeroclassikal'", "'world", "music'", "'world'", "'music'"
 , "'basement", "sessions'", music, at, "karamel'", "'karamel'"
LOCATION:Karamel
WEBSITE:http://www.karamel.london
URL:http://www.karamel.london
CONTACT:0208 829 8989
ORGANIZER;CN="Events at Karamel":https://bowesandbounds.org/profile/Ph
 ilSherman
ATTACH;FMTTYPE="image/jpeg":http://storage.ning.com/topology/rest/1.0/
 file/get/2287329182?profile=original
ATTENDEE;ROLE=REQ-PARTICIPANT;PARTSTAT=ACCEPTED;RSVP=TRUE;CN="Events a
 t Karamel":https://bowesandbounds.org/profile/PhilSherman
END:VEVENT
END:VCALENDAR
