BEGIN:VCALENDAR
PRODID:NingEventWidget-v1
VERSION:2.0
METHOD:PUBLISH
BEGIN:VTIMEZONE
TZID:Europe/London
X-LIC-LOCATION:Europe/London
BEGIN:DAYLIGHT
TZOFFSETFROM:+0000
TZOFFSETTO:+0100
TZNAME:BST
DTSTART:19700329T010000
RRULE:FREQ=YEARLY;BYMONTH=3;BYDAY=-1SU
END:DAYLIGHT
BEGIN:STANDARD
TZOFFSETFROM:+0100
TZOFFSETTO:+0000
TZNAME:GMT
DTSTART:19701025T020000
RRULE:FREQ=YEARLY;BYMONTH=10;BYDAY=-1SU
END:STANDARD
END:VTIMEZONE
BEGIN:VEVENT
UID:6278630:Event:126274
DTSTAMP:20260424T173305Z
SUMMARY:zerOclassikal Basement Sessions: Sowmyah Anandanadesan and Dhr
 uv Sarma
DESCRIPTION:Sowmyah Anandanadesan\nMulti-talented musician and upcomin
 g Carnatic Vocalist, Soumyah presents a vocal recital showcasing the v
 ariety of compositions and ragas within the genre. Having gained train
 ing since the age of 4, Soumyah has been performing and conducting a v
 ariety of performances leading her to develop her own strong and spiri
 ted style of singing.\n\nDhruv Sarma\nHindustani vocalist Dhruv Sarma 
 performs a vibrant classical repertoire, showcasing how a raag is deve
 loped through impressive improvisation. As a member of the well-known 
 band, Fusion Project, his development in understand different genres h
 as enabled a unique style to his classical range.\n\nEarlybird tickets
  £6 at www.karamel.london\n\nFor more information visit https://bowes
 andbounds.org/events/zeroclassikal-basement-sessions-sowmyah-anandanad
 esan-and-dhruv
DTSTART;TZID=Europe/London:20171025T190000
DTEND;TZID=Europe/London:20171025T230000
CATEGORIES:"'zeroclassikal'", "'world", "music'", "'world'", "'music'"
 , "'basement", "sessions'", music, at, "karamel'", "'karamel'"
LOCATION:Karamel
WEBSITE:http://www.karamel.london
URL:http://www.karamel.london
CONTACT:0208 829 8989
ORGANIZER;CN="Events at Karamel":https://bowesandbounds.org/profile/Ph
 ilSherman
ATTACH;FMTTYPE="image/jpeg":http://storage.ning.com/topology/rest/1.0/
 file/get/2287322102?profile=original
ATTENDEE;ROLE=REQ-PARTICIPANT;PARTSTAT=ACCEPTED;RSVP=TRUE;CN="Events a
 t Karamel":https://bowesandbounds.org/profile/PhilSherman
END:VEVENT
END:VCALENDAR
