BEGIN:VCALENDAR
PRODID:NingEventWidget-v1
VERSION:2.0
METHOD:PUBLISH
BEGIN:VTIMEZONE
TZID:Europe/London
X-LIC-LOCATION:Europe/London
BEGIN:DAYLIGHT
TZOFFSETFROM:+0000
TZOFFSETTO:+0100
TZNAME:BST
DTSTART:19700329T010000
RRULE:FREQ=YEARLY;BYMONTH=3;BYDAY=-1SU
END:DAYLIGHT
BEGIN:STANDARD
TZOFFSETFROM:+0100
TZOFFSETTO:+0000
TZNAME:GMT
DTSTART:19701025T020000
RRULE:FREQ=YEARLY;BYMONTH=10;BYDAY=-1SU
END:STANDARD
END:VTIMEZONE
BEGIN:VEVENT
UID:6278630:Event:91075
DTSTAMP:20260422T130041Z
SUMMARY:Zeroclassikal: Jesse Bannister â€“ Raga Ahir Bhairav
DESCRIPTION:South Asian Classical musicians are normally expected to p
 erform ragas according to the mood they find themselves in. However, z
 erOclassikal had had a different approach â€“ to commission artists to
  ready specific rags for performance.\nThe highly and uniquely talente
 d saxophonist, Jesse Bannister takes on a contemporary view of Ahir Bh
 airav, which is a mixture of Bhairav and the ancient but now rare raga
  Ahir.\nThe zerOclassikal project, a partnership between zeroculture a
 nd Collage Arts, continues to offer a radical approach to south Asian 
 classical music, aiming to provide British born and trained musicians 
 the voice and platform to explore what their identity brings to the â€
 ˜ancientâ€™ musical genre . The Project facilitates progressions, expe
 riments and developments of the genre, featuring commissions of new ra
 gas, new interpretations, compositions & improvisations.\nThe Karamel 
 Lounge is proud once again to host the project with a once a month pro
 gramme featuring artists willing to push the boundaries of south Asian
  classical music.\nwww.zeroclassikal.org.uk\nTickets: https://www.even
 tbrite.co.uk/e/zeroclassikal-jesse-banister-raga-ahir-bhairav-tickets-
 15326265272\n\nFor more information visit https://bowesandbounds.org/e
 vents/zeroclassikal-jesse-bannister-raga-ahir-bhairav
DTSTART;TZID=Europe/London:20150318T190000
DTEND;TZID=Europe/London:20150318T223000
CATEGORIES:"live music"
LOCATION:Wood Green
WEBSITE:http://karamelrestaurant.com/event/zeroclassikal-jesse-bannist
 er
URL:http://karamelrestaurant.com/event/zeroclassikal-jesse-bannister
CONTACT:020 8829 8989
ORGANIZER;CN="Collage Artspaces":https://bowesandbounds.org/profile/Co
 llage_Arts
ATTACH;FMTTYPE="image/jpeg":http://storage.ning.com/topology/rest/1.0/
 file/get/2287281734?profile=original
ATTENDEE;ROLE=REQ-PARTICIPANT;PARTSTAT=ACCEPTED;RSVP=TRUE;CN="Collage 
 Artspaces":https://bowesandbounds.org/profile/Collage_Arts
END:VEVENT
END:VCALENDAR
