BEGIN:VCALENDAR
PRODID:NingEventWidget-v1
VERSION:2.0
METHOD:PUBLISH
BEGIN:VTIMEZONE
TZID:Europe/London
X-LIC-LOCATION:Europe/London
BEGIN:DAYLIGHT
TZOFFSETFROM:+0000
TZOFFSETTO:+0100
TZNAME:BST
DTSTART:19700329T010000
RRULE:FREQ=YEARLY;BYMONTH=3;BYDAY=-1SU
END:DAYLIGHT
BEGIN:STANDARD
TZOFFSETFROM:+0100
TZOFFSETTO:+0000
TZNAME:GMT
DTSTART:19701025T020000
RRULE:FREQ=YEARLY;BYMONTH=10;BYDAY=-1SU
END:STANDARD
END:VTIMEZONE
BEGIN:VEVENT
UID:6278630:Event:121121
DTSTAMP:20260424T234657Z
SUMMARY:zerOclassikal: Keertan Rehal & Srutti Suresan
DESCRIPTION:This double bill features two upcoming female artists brin
 ging unique sounds to classical music.\nMulti-talented artist, Srutti 
 Suresan performs a Carnatic concert on Vocals and an instrument mostly
  unknown within the UK, the Lapsteel Guitar. Using the raga Kalyani as
  a basis, she experiments in the way both can work together, using her
  Vocal training to enthuse her performance technique on the Lapsteel G
 uitar.\nKeertan Rehal is a Leeds-based vocalist trained originally in 
 Kirtan which led to her pursuing an interest within classical music. I
 n this performance she showcases the various styles of vocal compositi
 on within Hindustani classical music.\nDoors open 7pm, Music starts at
  8pm\n\n£6 early bird/in advance £8 general admission/on the door Ti
 ckets available at www.karamel.london\n\n\nFor more information visit 
 https://bowesandbounds.org/events/zeroclassikal-keertan-rehal-srutti-s
 uresan
DTSTART;TZID=Europe/London:20170222T190000
DTEND;TZID=Europe/London:20170222T230000
CATEGORIES:"'world", "music'", "'music'", "'zeroclassikal'", "'music",
  at, "karamel'", "'karamel'", "'n22", "'wood", "green'", wood, music, 
 in
LOCATION:Karamel
WEBSITE:http://www.karamel.london
URL:http://www.karamel.london
CONTACT:0208 829 8989
ORGANIZER:Karamel
ATTACH;FMTTYPE="image/jpeg":http://storage.ning.com/topology/rest/1.0/
 file/get/2287315977?profile=original
ATTENDEE;ROLE=REQ-PARTICIPANT;PARTSTAT=ACCEPTED;RSVP=TRUE;CN="Events a
 t Karamel":https://bowesandbounds.org/profile/PhilSherman
END:VEVENT
END:VCALENDAR
