BEGIN:VCALENDAR
PRODID:NingEventWidget-v1
VERSION:2.0
METHOD:PUBLISH
BEGIN:VTIMEZONE
TZID:Europe/London
X-LIC-LOCATION:Europe/London
BEGIN:DAYLIGHT
TZOFFSETFROM:+0000
TZOFFSETTO:+0100
TZNAME:BST
DTSTART:19700329T010000
RRULE:FREQ=YEARLY;BYMONTH=3;BYDAY=-1SU
END:DAYLIGHT
BEGIN:STANDARD
TZOFFSETFROM:+0100
TZOFFSETTO:+0000
TZNAME:GMT
DTSTART:19701025T020000
RRULE:FREQ=YEARLY;BYMONTH=10;BYDAY=-1SU
END:STANDARD
END:VTIMEZONE
BEGIN:VEVENT
UID:6278630:Event:115998
DTSTAMP:20260425T022408Z
SUMMARY:zerOclassikal: Pavithra Logitharajah and Mayooran Kandhasamy/ 
 Raaheel Husain
DESCRIPTION:Our Autumn series of double-bill concerts presents the bes
 t of British talent performing South Asian Classical music. Our first 
 concert showcases the sounds of two beautiful stringed instruments oft
 en referred to as cousins from the North and South – the Sitar and V
 eena.\n\nPavithra Logitharajah and Mayooran Kandhasamy present a Carna
 tic veena duet exploring a variety of sounds, range and ragas on this 
 beautiful and delicate instrument. Two extremely talented artists, wit
 h impeccable technique and command over their gamakas bring out the be
 st of their instruments, and their own high energy.\n\nA creative and 
 gifted London-based musician, Raaheel Husain performs an evening of Hi
 ndustani classical music on the well-known and distinctively sounding 
 Sitar. As he travels through a range of improvisation, composition and
  technique, Raaheel creates his own unique style focusing on raag aest
 hetics and showcasing flawless skill.\n\n\nFor more information visit 
 https://bowesandbounds.org/events/zeroclassikal-pavithra-logitharajah-
 and-mayooran-kandhasamy
DTSTART;TZID=Europe/London:20160928T190000
DTEND;TZID=Europe/London:20160928T230000
CATEGORIES:"'music'", "'world", "music'", "'zeroclassikal'", "'south",
  "asian'", asian, "'karamel'", "'music", at, "karamel'"
LOCATION:Karamel
WEBSITE:http://www.wegottickets.com/event/371960
URL:http://www.wegottickets.com/event/371960
CONTACT:0208 829 8989
ORGANIZER;CN="Events at Karamel":https://bowesandbounds.org/profile/Ph
 ilSherman
ATTACH;FMTTYPE="image/jpeg":http://storage.ning.com/topology/rest/1.0/
 file/get/2287313221?profile=original
ATTENDEE;ROLE=REQ-PARTICIPANT;PARTSTAT=ACCEPTED;RSVP=TRUE;CN="Events a
 t Karamel":https://bowesandbounds.org/profile/PhilSherman
END:VEVENT
END:VCALENDAR
