BEGIN:VCALENDAR
PRODID:NingEventWidget-v1
VERSION:2.0
METHOD:PUBLISH
BEGIN:VTIMEZONE
TZID:Europe/London
X-LIC-LOCATION:Europe/London
BEGIN:DAYLIGHT
TZOFFSETFROM:+0000
TZOFFSETTO:+0100
TZNAME:BST
DTSTART:19700329T010000
RRULE:FREQ=YEARLY;BYMONTH=3;BYDAY=-1SU
END:DAYLIGHT
BEGIN:STANDARD
TZOFFSETFROM:+0100
TZOFFSETTO:+0000
TZNAME:GMT
DTSTART:19701025T020000
RRULE:FREQ=YEARLY;BYMONTH=10;BYDAY=-1SU
END:STANDARD
END:VTIMEZONE
BEGIN:VEVENT
UID:6278630:Event:135144
DTSTAMP:20260424T034915Z
SUMMARY:Zoe Wren at Bowes Park Folk Club
DESCRIPTION:A gifted songwriter and exceptional singer, Zoё Wren brin
 gs a welcome perspective and impressive originality to traditionally-i
 nspired music.\nFrom busking in Camden Zoё Wren has gone on to perfor
 ming at Cambridge Folk Festival and Celtic Connections, and opening fo
 r Fairport Convention’s Chris Leslie, Ralph McTell and Phil Beer. Dr
 awing on influences from the unorthodox harmonies of Joni Mitchell to 
 the honest storytelling of Tracy Chapman, and mixing these with cinema
 tic pedal effects, Zoё is creating a sound that has been called 'refr
 eshingly bold.' \nwww.zoewren.com\n \nBounds Green tube (Piccadilly 
 Line) - 10 minutes' walk\nBowes Park overground station - 1 minute's w
 alk\n£7 entry              \nCome early for a Mediterra
 nean-inspired menu if you'd like to eat there.\n\nFor more information
  visit https://bowesandbounds.org/events/zoe-wren-at-bowes-park-folk-c
 lub
DTSTART;TZID=Europe/London:20190404T200000
DTEND;TZID=Europe/London:20190404T230000
CATEGORIES:folk, club
LOCATION:Mum's Bistro
WEBSITE:http://www.bowesandbounds.org/group/bowes-park-folk-club
URL:http://www.bowesandbounds.org/group/bowes-park-folk-club
CONTACT:07774147296
ORGANIZER;CN="Anne Heagney":https://bowesandbounds.org/profile/AnneHea
 gney
ATTACH;FMTTYPE="image/jpeg":https://storage.ning.com/topology/rest/1.0
 /file/get/1113971306?profile=original
ATTENDEE;ROLE=REQ-PARTICIPANT;PARTSTAT=ACCEPTED;RSVP=TRUE;CN="Anne Hea
 gney":https://bowesandbounds.org/profile/AnneHeagney
END:VEVENT
END:VCALENDAR
